BEGIN:VCALENDAR
VERSION:2.0
PRODID:-//Sydney Philharmonia Choirs - ECPv6.15.20//NONSGML v1.0//EN
CALSCALE:GREGORIAN
METHOD:PUBLISH
X-ORIGINAL-URL:https://www.sydneyphilharmonia.com.au
X-WR-CALDESC:Events for Sydney Philharmonia Choirs
REFRESH-INTERVAL;VALUE=DURATION:PT1H
X-Robots-Tag:noindex
X-PUBLISHED-TTL:PT1H
BEGIN:VTIMEZONE
TZID:Australia/Sydney
BEGIN:STANDARD
TZOFFSETFROM:+1100
TZOFFSETTO:+1000
TZNAME:AEST
DTSTART:20250405T160000
END:STANDARD
BEGIN:DAYLIGHT
TZOFFSETFROM:+1000
TZOFFSETTO:+1100
TZNAME:AEDT
DTSTART:20251004T160000
END:DAYLIGHT
BEGIN:STANDARD
TZOFFSETFROM:+1100
TZOFFSETTO:+1000
TZNAME:AEST
DTSTART:20260404T160000
END:STANDARD
BEGIN:DAYLIGHT
TZOFFSETFROM:+1000
TZOFFSETTO:+1100
TZNAME:AEDT
DTSTART:20261003T160000
END:DAYLIGHT
BEGIN:STANDARD
TZOFFSETFROM:+1100
TZOFFSETTO:+1000
TZNAME:AEST
DTSTART:20270403T160000
END:STANDARD
BEGIN:DAYLIGHT
TZOFFSETFROM:+1000
TZOFFSETTO:+1100
TZNAME:AEDT
DTSTART:20271002T160000
END:DAYLIGHT
END:VTIMEZONE
BEGIN:VEVENT
DTSTART;TZID=Australia/Sydney:20260328T200000
DTEND;TZID=Australia/Sydney:20260328T213000
DTSTAMP:20260423T155201
CREATED:20251119T045050Z
LAST-MODIFIED:20251119T045050Z
UID:10000069-1774728000-1774733400@www.sydneyphilharmonia.com.au
SUMMARY:Anna Lapwood performs Max Richter
DESCRIPTION:
URL:https://www.sydneyphilharmonia.com.au/performance/anna-lapwood-performs-max-richter-4/
LOCATION:Sydney Opera House\, Sydney Opera House\, Sydney\, New South Wales\, 2000\, Australia
ATTACH;FMTTYPE=image/jpeg:https://www.sydneyphilharmonia.com.au/wp-content/uploads/2025/11/2026-Anna-Lapwood-performs-Max-Richter-Detail.jpg
END:VEVENT
BEGIN:VEVENT
DTSTART;TZID=Australia/Sydney:20260327T200000
DTEND;TZID=Australia/Sydney:20260327T213000
DTSTAMP:20260423T155201
CREATED:20251119T045003Z
LAST-MODIFIED:20251119T045003Z
UID:10000068-1774641600-1774647000@www.sydneyphilharmonia.com.au
SUMMARY:Anna Lapwood performs Max Richter
DESCRIPTION:
URL:https://www.sydneyphilharmonia.com.au/performance/anna-lapwood-performs-max-richter-3/
LOCATION:Sydney Opera House\, Sydney Opera House\, Sydney\, New South Wales\, 2000\, Australia
ATTACH;FMTTYPE=image/jpeg:https://www.sydneyphilharmonia.com.au/wp-content/uploads/2025/11/2026-Anna-Lapwood-performs-Max-Richter-Detail.jpg
END:VEVENT
BEGIN:VEVENT
DTSTART;TZID=Australia/Sydney:20260326T130000
DTEND;TZID=Australia/Sydney:20260326T143000
DTSTAMP:20260423T155201
CREATED:20251119T044749Z
LAST-MODIFIED:20251119T044749Z
UID:10000067-1774530000-1774535400@www.sydneyphilharmonia.com.au
SUMMARY:Anna Lapwood performs Max Richter
DESCRIPTION:
URL:https://www.sydneyphilharmonia.com.au/performance/anna-lapwood-performs-max-richter-2/
LOCATION:Sydney Opera House\, Sydney Opera House\, Sydney\, New South Wales\, 2000\, Australia
ATTACH;FMTTYPE=image/jpeg:https://www.sydneyphilharmonia.com.au/wp-content/uploads/2025/11/2026-Anna-Lapwood-performs-Max-Richter-Detail.jpg
END:VEVENT
BEGIN:VEVENT
DTSTART;TZID=Australia/Sydney:20260325T200000
DTEND;TZID=Australia/Sydney:20260325T213000
DTSTAMP:20260423T155201
CREATED:20251119T043229Z
LAST-MODIFIED:20251119T044858Z
UID:10000066-1774468800-1774474200@www.sydneyphilharmonia.com.au
SUMMARY:Anna Lapwood performs Max Richter
DESCRIPTION:
URL:https://www.sydneyphilharmonia.com.au/performance/anna-lapwood-performs-max-richter/
LOCATION:Sydney Opera House\, Sydney Opera House\, Sydney\, New South Wales\, 2000\, Australia
ATTACH;FMTTYPE=image/jpeg:https://www.sydneyphilharmonia.com.au/wp-content/uploads/2025/11/2026-Anna-Lapwood-performs-Max-Richter-Detail.jpg
END:VEVENT
BEGIN:VEVENT
DTSTART;TZID=Australia/Sydney:20260314T190000
DTEND;TZID=Australia/Sydney:20260314T203000
DTSTAMP:20260423T155201
CREATED:20251119T043126Z
LAST-MODIFIED:20251119T043126Z
UID:10000065-1773514800-1773520200@www.sydneyphilharmonia.com.au
SUMMARY:Elden Ring Symphonic Adventure
DESCRIPTION:
URL:https://www.sydneyphilharmonia.com.au/performance/elden-ring-symphonic-adventure-3/
LOCATION:Sydney Opera House\, Sydney Opera House\, Sydney\, New South Wales\, 2000\, Australia
ATTACH;FMTTYPE=image/jpeg:https://www.sydneyphilharmonia.com.au/wp-content/uploads/2025/11/2026-Elden-Ring-Symphonic-Adventure-Detail.jpg
END:VEVENT
BEGIN:VEVENT
DTSTART;TZID=Australia/Sydney:20260313T190000
DTEND;TZID=Australia/Sydney:20260313T203000
DTSTAMP:20260423T155201
CREATED:20251119T042853Z
LAST-MODIFIED:20251119T042853Z
UID:10000064-1773428400-1773433800@www.sydneyphilharmonia.com.au
SUMMARY:Elden Ring Symphonic Adventure
DESCRIPTION:
URL:https://www.sydneyphilharmonia.com.au/performance/elden-ring-symphonic-adventure-2/
LOCATION:Sydney Opera House\, Sydney Opera House\, Sydney\, New South Wales\, 2000\, Australia
ATTACH;FMTTYPE=image/jpeg:https://www.sydneyphilharmonia.com.au/wp-content/uploads/2025/11/2026-Elden-Ring-Symphonic-Adventure-Detail.jpg
END:VEVENT
BEGIN:VEVENT
DTSTART;TZID=Australia/Sydney:20260312T190000
DTEND;TZID=Australia/Sydney:20260312T203000
DTSTAMP:20260423T155201
CREATED:20251119T042520Z
LAST-MODIFIED:20251119T042956Z
UID:10000062-1773342000-1773347400@www.sydneyphilharmonia.com.au
SUMMARY:Elden Ring Symphonic Adventure
DESCRIPTION:
URL:https://www.sydneyphilharmonia.com.au/performance/elden-ring-symphonic-adventure/
LOCATION:Sydney Opera House\, Sydney Opera House\, Sydney\, New South Wales\, 2000\, Australia
ATTACH;FMTTYPE=image/jpeg:https://www.sydneyphilharmonia.com.au/wp-content/uploads/2025/11/2026-Elden-Ring-Symphonic-Adventure-Detail.jpg
END:VEVENT
END:VCALENDAR